BEGIN:VCALENDAR
VERSION:2.0
PRODID:-//GNOBFA - ECPv6.15.20//NONSGML v1.0//EN
CALSCALE:GREGORIAN
METHOD:PUBLISH
X-WR-CALNAME:GNOBFA
X-ORIGINAL-URL:https://gnobfa.com
X-WR-CALDESC:Events for GNOBFA
REFRESH-INTERVAL;VALUE=DURATION:PT1H
X-Robots-Tag:noindex
X-PUBLISHED-TTL:PT1H
BEGIN:VTIMEZONE
TZID:America/New_York
BEGIN:DAYLIGHT
TZOFFSETFROM:-0500
TZOFFSETTO:-0400
TZNAME:EDT
DTSTART:20250309T070000
END:DAYLIGHT
BEGIN:STANDARD
TZOFFSETFROM:-0400
TZOFFSETTO:-0500
TZNAME:EST
DTSTART:20251102T060000
END:STANDARD
BEGIN:DAYLIGHT
TZOFFSETFROM:-0500
TZOFFSETTO:-0400
TZNAME:EDT
DTSTART:20260308T070000
END:DAYLIGHT
BEGIN:STANDARD
TZOFFSETFROM:-0400
TZOFFSETTO:-0500
TZNAME:EST
DTSTART:20261101T060000
END:STANDARD
BEGIN:DAYLIGHT
TZOFFSETFROM:-0500
TZOFFSETTO:-0400
TZNAME:EDT
DTSTART:20270314T070000
END:DAYLIGHT
BEGIN:STANDARD
TZOFFSETFROM:-0400
TZOFFSETTO:-0500
TZNAME:EST
DTSTART:20271107T060000
END:STANDARD
END:VTIMEZONE
BEGIN:VEVENT
DTSTART;VALUE=DATE:20261022
DTEND;VALUE=DATE:20261023
DTSTAMP:20260420T155411
CREATED:20260129T145027Z
LAST-MODIFIED:20260129T145027Z
UID:3349-1792627200-1792713599@gnobfa.com
SUMMARY:GNOBFA Charity Golf Tournament
DESCRIPTION:  \nDetails will be posted here as soon as finalized. \n 
URL:https://gnobfa.com/event/gnobfa-charity-golf-tournament-2/
LOCATION:Cypress Lakes Country Club\, 10 Villere Dr.\, Destrehan\, LA\, 70047\, United States
END:VEVENT
END:VCALENDAR