BEGIN:VCALENDAR
VERSION:2.0
PRODID:-//GNOBFA - ECPv6.15.20//NONSGML v1.0//EN
CALSCALE:GREGORIAN
METHOD:PUBLISH
X-ORIGINAL-URL:https://gnobfa.com
X-WR-CALDESC:Events for GNOBFA
REFRESH-INTERVAL;VALUE=DURATION:PT1H
X-Robots-Tag:noindex
X-PUBLISHED-TTL:PT1H
BEGIN:VTIMEZONE
TZID:America/New_York
BEGIN:DAYLIGHT
TZOFFSETFROM:-0500
TZOFFSETTO:-0400
TZNAME:EDT
DTSTART:20230312T070000
END:DAYLIGHT
BEGIN:STANDARD
TZOFFSETFROM:-0400
TZOFFSETTO:-0500
TZNAME:EST
DTSTART:20231105T060000
END:STANDARD
BEGIN:DAYLIGHT
TZOFFSETFROM:-0500
TZOFFSETTO:-0400
TZNAME:EDT
DTSTART:20240310T070000
END:DAYLIGHT
BEGIN:STANDARD
TZOFFSETFROM:-0400
TZOFFSETTO:-0500
TZNAME:EST
DTSTART:20241103T060000
END:STANDARD
BEGIN:DAYLIGHT
TZOFFSETFROM:-0500
TZOFFSETTO:-0400
TZNAME:EDT
DTSTART:20250309T070000
END:DAYLIGHT
BEGIN:STANDARD
TZOFFSETFROM:-0400
TZOFFSETTO:-0500
TZNAME:EST
DTSTART:20251102T060000
END:STANDARD
END:VTIMEZONE
BEGIN:VEVENT
DTSTART;TZID=America/New_York:20240827T173000
DTEND;TZID=America/New_York:20240827T200000
DTSTAMP:20260422T161517
CREATED:20240809T221542Z
LAST-MODIFIED:20240809T221542Z
UID:2288-1724779800-1724788800@gnobfa.com
SUMMARY:General Membership Meeting
DESCRIPTION:Cash Bar: 5:30 pm – 6:30 pm \nDinner Meeting: 6:30 pm – 8:00 pm \nRate: $58.00 \nReservations: Robin.Rogers@cooperconsolidated.com
URL:https://gnobfa.com/event/general-membership-meeting-2/
LOCATION:Ormond Manor House Restaurant Pavilion\, 13786 River Road\, Destrehan\, LA\, 70047\, United States
END:VEVENT
END:VCALENDAR